BEGIN:VCALENDAR
VERSION:2.0
PRODID:-//ChamberMaster//Event Calendar 2.0//EN
METHOD:PUBLISH
X-PUBLISHED-TTL:P3D
REFRESH-INTERVAL:P3D
CALSCALE:GREGORIAN
BEGIN:VEVENT
DTSTART:20171208T234500Z
DTEND:20171209T023000Z
X-MICROSOFT-CDO-ALLDAYEVENT:FALSE
SUMMARY:2017-12 Installation Banquet
DESCRIPTION:Join us for the Installation Banquet.  This event will recognize current board members and install the 2018 Board of Directors.  There will also be entertainment by Comedian Jeremy Nunes.
X-ALT-DESC;FMTTYPE=text/html:Join us for the Installation Banquet.&nbsp\; This event will recognize current board members and install the 2018 Board of Directors.&nbsp\; There will also be entertainment by Comedian Jeremy Nunes.&nbsp\;
LOCATION:Hickory Point Golf Club 727 W. Weaver Road Forsyth\, IL 62535
UID:e.9535.3
SEQUENCE:3
DTSTAMP:20260423T204521Z
URL:http://business.metrodecaturhba.com/events/details/2017-12-installation-banquet-3
END:VEVENT

END:VCALENDAR
