BEGIN:VCALENDAR
VERSION:2.0
PRODID:-//ChamberMaster//Event Calendar 2.0//EN
METHOD:PUBLISH
X-PUBLISHED-TTL:P3D
REFRESH-INTERVAL:P3D
CALSCALE:GREGORIAN
BEGIN:VEVENT
DTSTART:20180104T233000Z
DTEND:20180105T013000Z
X-MICROSOFT-CDO-ALLDAYEVENT:FALSE
SUMMARY:2018-01 Membership Meeting
DESCRIPTION:January 2018 Membership Meeting\n\nGuest Speaker: Mayor Julie Moore Wolfe
X-ALT-DESC;FMTTYPE=text/html:January 2018 Membership Meeting<br />\nGuest Speaker: Mayor Julie Moore Wolfe
LOCATION:Coz's Pizza 1405 E. Village Parkway Mt. Zion\, IL 62549
UID:e.9535.4
SEQUENCE:3
DTSTAMP:20260423T190728Z
URL:http://business.metrodecaturhba.com/events/details/2018-01-membership-meeting-4
END:VEVENT

END:VCALENDAR
