BEGIN:VCALENDAR
VERSION:2.0
PRODID:-//ChamberMaster//Event Calendar 2.0//EN
METHOD:PUBLISH
X-PUBLISHED-TTL:P3D
REFRESH-INTERVAL:P3D
CALSCALE:GREGORIAN
BEGIN:VEVENT
DTSTART:20180201T233000Z
DTEND:20180202T020000Z
X-MICROSOFT-CDO-ALLDAYEVENT:FALSE
SUMMARY:2018-02 Membership Meeting
DESCRIPTION:Join us and our guest speaker Nicole Bateman - Executive Director of Midwest Inland Port and Community Marketing Manager of Limitless Decatur & Macon County.  Doors open at 5:30 pm for social time!
X-ALT-DESC;FMTTYPE=text/html:Join us and our guest speaker Nicole Bateman - Executive Director of Midwest Inland Port and Community Marketing Manager of Limitless Decatur &amp\; Macon County.&nbsp\; Doors open at 5:30 pm for social time!&nbsp\;
LOCATION:Doherty's Pub & Pins 242 E. William St. Decatur\, IL 62523
UID:e.9535.5
SEQUENCE:3
DTSTAMP:20260423T173828Z
URL:http://business.metrodecaturhba.com/events/details/2018-02-membership-meeting-5
END:VEVENT

END:VCALENDAR
