BEGIN:VCALENDAR
VERSION:2.0
PRODID:-//ChamberMaster//Event Calendar 2.0//EN
METHOD:PUBLISH
X-PUBLISHED-TTL:P3D
REFRESH-INTERVAL:P3D
CALSCALE:GREGORIAN
BEGIN:VEVENT
DTSTART:20180310T150000Z
DTEND:20180311T210000Z
X-MICROSOFT-CDO-ALLDAYEVENT:FALSE
SUMMARY:2018-03 Home Show
DESCRIPTION:
X-ALT-DESC;FMTTYPE=text/html:
LOCATION:Decatur Civic Center
UID:e.9535.2
SEQUENCE:3
DTSTAMP:20260423T155953Z
URL:http://business.metrodecaturhba.com/events/details/2018-03-home-show-2
END:VEVENT

END:VCALENDAR
