BEGIN:VCALENDAR
VERSION:2.0
PRODID:-//ChamberMaster//Event Calendar 2.0//EN
METHOD:PUBLISH
X-PUBLISHED-TTL:P3D
REFRESH-INTERVAL:P3D
CALSCALE:GREGORIAN
BEGIN:VEVENT
DTSTART:20180607T223000Z
DTEND:20180608T010000Z
X-MICROSOFT-CDO-ALLDAYEVENT:FALSE
SUMMARY:2018-06 Cookout at the Cabin
DESCRIPTION:Get fired up!  You're invited to an evening in the woods!  Channel your inner flannel and let the Great Adventure begin. Hike on over to Cleveland's cabin at 1315 N. Country Club Road on Thursday\, June 7th at 5:30 pm.  Join us for a night filled with outdoor games\, music\, networking and fundraising for HomePAC (HomePAC is the only political action committee dedicated to home builders\, developers\, and remodelers working in Illinois. Members support HomePAC because it backs candidates for office who believe in attainable quality housing for all residents of Illinois.) \n\n\n\nBring a dish to share and your favorite beverage. Main dish will be provided.
X-ALT-DESC;FMTTYPE=text/html:Get fired up!&nbsp\; You&#39\;re invited to an evening in the woods!&nbsp\; Channel your inner flannel and let the Great Adventure begin. Hike on over to Cleveland&#39\;s cabin at 1315 N. Country Club Road on Thursday\, June 7th at 5:30 pm.&nbsp\; Join us for a night filled with outdoor games\, music\, networking and fundraising for HomePAC <span style="font-size: 11px\;"><em>(HomePAC is the only political action committee dedicated to home builders\, developers\, and remodelers working in Illinois. Members support HomePAC because it backs candidates for office who believe in attainable quality housing for all residents of Illinois.) </em></span><br />\n<br />\n<em><span style="font-size: 18px\;"><span style="font-family: verdana\;"><span style="color: rgb(255\, 0\, 0)\;">Bring a dish to share and your favorite beverage. Main dish will be provided. </span></span></span></em>
LOCATION:Jim Cleveland's Cabin 1315 N. Country Club Rd. Decatur\, IL 62521
UID:e.9535.1007
SEQUENCE:3
DTSTAMP:20260423T112233Z
URL:http://business.metrodecaturhba.com/events/details/2018-06-cookout-at-the-cabin-1007
END:VEVENT

END:VCALENDAR
