BEGIN:VCALENDAR
VERSION:2.0
PRODID:-//ChamberMaster//Event Calendar 2.0//EN
METHOD:PUBLISH
X-PUBLISHED-TTL:P3D
REFRESH-INTERVAL:P3D
CALSCALE:GREGORIAN
BEGIN:VEVENT
DTSTART:20181101T230000Z
DTEND:20181102T010000Z
X-MICROSOFT-CDO-ALLDAYEVENT:FALSE
SUMMARY:2018-11 Saluting our Veterans Nov 2018
DESCRIPTION:Learning more about the impact of a comfort dog on local Veterans
X-ALT-DESC;FMTTYPE=text/html:Learning more about the impact of a comfort dog on local Veterans
LOCATION:Decatur Club Downtown Decatur
UID:e.9535.1011
SEQUENCE:3
DTSTAMP:20260423T043037Z
URL:http://business.metrodecaturhba.com/events/details/2018-11-saluting-our-veterans-nov-2018-1011
END:VEVENT

END:VCALENDAR
