BEGIN:VCALENDAR
VERSION:2.0
PRODID:-//ChamberMaster//Event Calendar 2.0//EN
METHOD:PUBLISH
X-PUBLISHED-TTL:P3D
REFRESH-INTERVAL:P3D
CALSCALE:GREGORIAN
BEGIN:VEVENT
DTSTART:20180906T230000Z
DTEND:20180907T010000Z
X-MICROSOFT-CDO-ALLDAYEVENT:FALSE
SUMMARY:2019-09 Effectively Using Social Media for Your Business
DESCRIPTION:General Memebership Meeting\n\nSpeaker: Matt Minder
X-ALT-DESC;FMTTYPE=text/html:General Memebership Meeting<br />\nSpeaker: Matt Minder
LOCATION:Coz's Restaurant 1405 East Village Parkway Mt Zion IL
UID:e.9535.1008
SEQUENCE:3
DTSTAMP:20260423T072352Z
URL:http://business.metrodecaturhba.com/events/details/2019-09-effectively-using-social-media-for-your-business-1008
END:VEVENT

END:VCALENDAR
