BEGIN:VCALENDAR
VERSION:2.0
PRODID:-//ChamberMaster//Event Calendar 2.0//EN
METHOD:PUBLISH
X-PUBLISHED-TTL:P3D
REFRESH-INTERVAL:P3D
CALSCALE:GREGORIAN
BEGIN:VEVENT
DTSTART:20191205T230000Z
DTEND:20191206T020000Z
X-MICROSOFT-CDO-ALLDAYEVENT:FALSE
SUMMARY:2019 December Whats Behind Those Walls
DESCRIPTION:General Membership Meeting
X-ALT-DESC;FMTTYPE=text/html:General Membership Meeting
LOCATION:Macon County Sheriffs Training Center
UID:e.9535.1021
SEQUENCE:3
DTSTAMP:20260422T012047Z
URL:http://business.metrodecaturhba.com/events/details/2019-december-whats-behind-those-walls-1021
END:VEVENT

END:VCALENDAR
