BEGIN:VCALENDAR
VERSION:2.0
PRODID:-//ChamberMaster//Event Calendar 2.0//EN
METHOD:PUBLISH
X-PUBLISHED-TTL:P3D
REFRESH-INTERVAL:P3D
CALSCALE:GREGORIAN
BEGIN:VEVENT
DTSTART:20190207T230000Z
DTEND:20190208T030000Z
X-MICROSOFT-CDO-ALLDAYEVENT:FALSE
SUMMARY:2019 FEB GMM at the Museum
DESCRIPTION:Mayor Julie Moore Wolfe speaker
X-ALT-DESC;FMTTYPE=text/html:Mayor Julie Moore Wolfe speaker
LOCATION:
UID:e.9535.1013
SEQUENCE:3
DTSTAMP:20260422T235443Z
URL:http://business.metrodecaturhba.com/events/details/2019-feb-gmm-at-the-museum-1013
END:VEVENT

END:VCALENDAR
