BEGIN:VCALENDAR
VERSION:2.0
PRODID:-//ChamberMaster//Event Calendar 2.0//EN
METHOD:PUBLISH
X-PUBLISHED-TTL:P3D
REFRESH-INTERVAL:P3D
CALSCALE:GREGORIAN
BEGIN:VEVENT
DTSTART:20200207T000000Z
DTEND:20200207T030000Z
X-MICROSOFT-CDO-ALLDAYEVENT:FALSE
SUMMARY:2020 Feb - Whats Happening in the City
DESCRIPTION:Here an update on Whats Happening in the City from the Mayor\n\nLearn more about our Host member CEFCU
X-ALT-DESC;FMTTYPE=text/html:Here an update on Whats Happening in the City from the Mayor<br />\nLearn more about our Host member CEFCU
LOCATION:CEFCU
UID:e.9535.1022
SEQUENCE:3
DTSTAMP:20260421T220359Z
URL:http://business.metrodecaturhba.com/events/details/2020-feb-whats-happening-in-the-city-1022
END:VEVENT

END:VCALENDAR
