BEGIN:VCALENDAR
VERSION:2.0
PRODID:-//ChamberMaster//Event Calendar 2.0//EN
METHOD:PUBLISH
X-PUBLISHED-TTL:P3D
REFRESH-INTERVAL:P3D
CALSCALE:GREGORIAN
BEGIN:VEVENT
DTSTART:20230119T230000Z
DTEND:20230120T010000Z
X-MICROSOFT-CDO-ALLDAYEVENT:FALSE
SUMMARY:HBA Reunion
DESCRIPTION:We're getting the gang back together again!! \n\nJoin us for an evening of networking\, and get updates on what is going on with the MDHBA\, as well as industry updates and member benefit programs.\n\n\n\nDo you know someone in the industry who might be interested?  Please bring them along! \n\n\n\nThere is no cost to attend.  Appetizers will be provided and a cash bar will be available. \n\n\n\nClick here to download flyer
X-ALT-DESC;FMTTYPE=text/html:We&#39\;re getting the gang back together again!!&nbsp\;<br />\nJoin us for an evening of networking\, and get updates on what is going on with the MDHBA\, as well as industry updates and member benefit programs.<br />\n<br />\nDo you know someone in the industry who might be interested?&nbsp\; Please bring them along!&nbsp\;<br />\n<br />\nThere is no cost to attend.&nbsp\; Appetizers will be provided and a cash bar will be available.&nbsp\;<br />\n<br />\n<a href="https://files.constantcontact.com/74ebc81b001/5da9e781-7187-4cf7-8833-fe4a4f8809c3.pdf" target="_blank">Click here to download flyer</a><br />\n&nbsp\;
LOCATION:Doherty's Pub & Pins 242 E. William St. Decatur\, IL 62523
UID:e.9535.1025
SEQUENCE:3
DTSTAMP:20260419T140932Z
URL:http://business.metrodecaturhba.com/events/details/hba-reunion-1025
END:VEVENT

END:VCALENDAR
