BEGIN:VCALENDAR
VERSION:2.0
PRODID:-//ChamberMaster//Event Calendar 2.0//EN
METHOD:PUBLISH
X-PUBLISHED-TTL:P3D
REFRESH-INTERVAL:P3D
CALSCALE:GREGORIAN
BEGIN:VEVENT
DTSTART:20190502T230000Z
DTEND:20190503T020000Z
X-MICROSOFT-CDO-ALLDAYEVENT:FALSE
SUMMARY:May 2019 The Bullet Trap
DESCRIPTION:General Meeting\n\nProgram and Simulator Fun
X-ALT-DESC;FMTTYPE=text/html:General Meeting<br />\nProgram and Simulator Fun
LOCATION:Whits End 181 Wall Street Macon IL Bullet Trap 2790N. Front Street Macon Il
UID:e.9535.1016
SEQUENCE:3
DTSTAMP:20260422T190200Z
URL:http://business.metrodecaturhba.com/events/details/may-2019-the-bullet-trap-1016
END:VEVENT

END:VCALENDAR
