BEGIN:VCALENDAR
VERSION:2.0
PRODID:-//ChamberMaster//Event Calendar 2.0//EN
METHOD:PUBLISH
X-PUBLISHED-TTL:P3D
REFRESH-INTERVAL:P3D
CALSCALE:GREGORIAN
BEGIN:VEVENT
DTSTART;VALUE=DATE:20190430
DTEND;VALUE=DATE:20190501
TRANSP:TRANSPARENT
X-MICROSOFT-CDO-ALLDAYEVENT:TRUE
SUMMARY:Springfield 2019 Lobby Day
DESCRIPTION:Lobby Day in Springfield
X-ALT-DESC;FMTTYPE=text/html:Lobby Day in Springfield
LOCATION:Sangamo Club Springfield Il
UID:e.9535.1017
SEQUENCE:3
DTSTAMP:20260422T204633Z
URL:http://business.metrodecaturhba.com/events/details/springfield-2019-lobby-day-1017
END:VEVENT

END:VCALENDAR
